BEGIN:VCALENDAR
VERSION:2.0
PRODID:-//Tukios.com/
BEGIN:VEVENT
UID:0f919f9f-83e1-447a-bc9a-b3ef12326e68@www.toledocremation.com
DTSTAMP:20260422T162342Z
DTSTART:20260424T150000Z
DTEND:20260424T160000Z
SUMMARY:Memorial Service
DESCRIPTION:
URL:https://www.toledocremation.com/obituaries/shirley-garber
LOCATION: 1163 E Napoleon Rd  Bowling Green OH 43402
GEO:41.3643753;-83.6340532
END:VEVENT
END:VCALENDAR