BEGIN:VCALENDAR
VERSION:2.0
PRODID:-//Tukios.com/
BEGIN:VEVENT
UID:e1ff5dbe-c106-4aaa-9fa0-b6b941a86391@www.toledocremation.com
DTSTAMP:20260422T162035Z
DTSTART:20260424T140000Z
DTEND:20260424T150000Z
SUMMARY:Visitation
DESCRIPTION:
URL:https://www.toledocremation.com/obituaries/shirley-garber
LOCATION:Word of Truth Christian Center 1163 E Napoleon Rd  Bowling Green 
	OH 43402
GEO:41.3643753;-83.6340532
END:VEVENT
END:VCALENDAR