BEGIN:VCALENDAR
VERSION:2.0
PRODID:-//Tukios.com/
BEGIN:VEVENT
UID:278ccb5d-7db7-4c47-9512-ae3f120bacd1@www.toledocremation.com
DTSTAMP:20260421T235251Z
DTSTART:20260428T140000Z
DTEND:20260428T160000Z
SUMMARY:Memorial Service
DESCRIPTION:
URL:https://www.toledocremation.com/obituaries/roxanne-mcdaniel
LOCATION: 167 Bergin Street  Rossford OH 43460
GEO:41.6132007;-83.5587579
END:VEVENT
END:VCALENDAR