BEGIN:VCALENDAR
VERSION:2.0
PRODID:-//Tukios.com/
BEGIN:VEVENT
UID:f5309b10-0245-4434-8754-7dd641b118d4@www.toledocremation.com
DTSTAMP:20260421T171907Z
DTSTART:20260425T140000Z
DTEND:20260425T150000Z
SUMMARY:Mass
DESCRIPTION:
URL:https://www.toledocremation.com/obituaries/joseph-ulinski
LOCATION: 420 Sandusky Street  Toledo OH 43611
GEO:41.6768032;-83.5022613
END:VEVENT
END:VCALENDAR